BEGIN:VCALENDAR
VERSION:2.0
PRODID:-//Delta-Mendota SGMA - ECPv6.13.2.1//NONSGML v1.0//EN
CALSCALE:GREGORIAN
METHOD:PUBLISH
X-WR-CALNAME:Delta-Mendota SGMA
X-ORIGINAL-URL:https://deltamendota.org
X-WR-CALDESC:Events for Delta-Mendota SGMA
REFRESH-INTERVAL;VALUE=DURATION:PT1H
X-Robots-Tag:noindex
X-PUBLISHED-TTL:PT1H
BEGIN:VTIMEZONE
TZID:America/Denver
BEGIN:DAYLIGHT
TZOFFSETFROM:-0700
TZOFFSETTO:-0600
TZNAME:MDT
DTSTART:20190310T090000
END:DAYLIGHT
BEGIN:STANDARD
TZOFFSETFROM:-0600
TZOFFSETTO:-0700
TZNAME:MST
DTSTART:20191103T080000
END:STANDARD
END:VTIMEZONE
BEGIN:VEVENT
DTSTART;TZID=America/Denver:20190522T183000
DTEND;TZID=America/Denver:20190522T203000
DTSTAMP:20260423T204747
CREATED:20190422T175029Z
LAST-MODIFIED:20190422T175029Z
UID:10000370-1558549800-1558557000@deltamendota.org
SUMMARY:Delta-Mendota Spring Workshop - Santa Nella
DESCRIPTION:
URL:https://deltamendota.org/event/delta-mendota-spring-workshop-santa-nella/
LOCATION:Romero Elementary School\, 13500 Luis Avenue\, Gustine\, CA\, 95322\, United States
CATEGORIES:Public Workshops
END:VEVENT
END:VCALENDAR