BEGIN:VCALENDAR
VERSION:2.0
PRODID:-//Delta-Mendota SGMA - ECPv6.13.2.1//NONSGML v1.0//EN
CALSCALE:GREGORIAN
METHOD:PUBLISH
X-ORIGINAL-URL:https://deltamendota.org
X-WR-CALDESC:Events for Delta-Mendota SGMA
REFRESH-INTERVAL;VALUE=DURATION:PT1H
X-Robots-Tag:noindex
X-PUBLISHED-TTL:PT1H
BEGIN:VTIMEZONE
TZID:UTC
BEGIN:STANDARD
TZOFFSETFROM:+0000
TZOFFSETTO:+0000
TZNAME:UTC
DTSTART:20190101T000000
END:STANDARD
END:VTIMEZONE
BEGIN:VEVENT
DTSTART;TZID=UTC:20190212T133000
DTEND;TZID=UTC:20190212T150000
DTSTAMP:20260424T014936
CREATED:20190208T004943Z
LAST-MODIFIED:20190209T054859Z
UID:10000349-1549978200-1549983600@deltamendota.org
SUMMARY:Northern and Central Delta-Mendota Region Financing Workshop
DESCRIPTION:Notice and Agenda
URL:https://deltamendota.org/event/northern-central-region-financing-workshop/
LOCATION:Del Puerto Water District Office\, 17840 Ward Ave\, Patterson\, CA\, 95363\, United States
END:VEVENT
END:VCALENDAR