BEGIN:VCALENDAR
VERSION:2.0
PRODID:-//Delta-Mendota SGMA - ECPv6.13.2.1//NONSGML v1.0//EN
CALSCALE:GREGORIAN
METHOD:PUBLISH
X-WR-CALNAME:Delta-Mendota SGMA
X-ORIGINAL-URL:https://deltamendota.org
X-WR-CALDESC:Events for Delta-Mendota SGMA
REFRESH-INTERVAL;VALUE=DURATION:PT1H
X-Robots-Tag:noindex
X-PUBLISHED-TTL:PT1H
BEGIN:VTIMEZONE
TZID:America/Los_Angeles
BEGIN:DAYLIGHT
TZOFFSETFROM:-0800
TZOFFSETTO:-0700
TZNAME:PDT
DTSTART:20240310T100000
END:DAYLIGHT
BEGIN:STANDARD
TZOFFSETFROM:-0700
TZOFFSETTO:-0800
TZNAME:PST
DTSTART:20241103T090000
END:STANDARD
END:VTIMEZONE
BEGIN:VTIMEZONE
TZID:America/Denver
BEGIN:DAYLIGHT
TZOFFSETFROM:-0700
TZOFFSETTO:-0600
TZNAME:MDT
DTSTART:20230312T090000
END:DAYLIGHT
BEGIN:STANDARD
TZOFFSETFROM:-0600
TZOFFSETTO:-0700
TZNAME:MST
DTSTART:20231105T080000
END:STANDARD
BEGIN:DAYLIGHT
TZOFFSETFROM:-0700
TZOFFSETTO:-0600
TZNAME:MDT
DTSTART:20240310T090000
END:DAYLIGHT
BEGIN:STANDARD
TZOFFSETFROM:-0600
TZOFFSETTO:-0700
TZNAME:MST
DTSTART:20241103T080000
END:STANDARD
END:VTIMEZONE
BEGIN:VEVENT
DTSTART;TZID=America/Los_Angeles:20240513T130000
DTEND;TZID=America/Los_Angeles:20240513T163000
DTSTAMP:20260424T113815
CREATED:20240510T175803Z
LAST-MODIFIED:20240510T175803Z
UID:10000426-1715605200-1715617800@deltamendota.org
SUMMARY:Meeting: Delta-Mendota Subbasin Coordination Committee
DESCRIPTION:051324 CC Meeting Agenda-final
URL:https://deltamendota.org/event/meeting-delta-mendota-subbasin-coordination-committee-2/
LOCATION:Grassland Water District Office\, 200 W Wilmott Ave\, Los Banos\, CA\, United States
ORGANIZER;CN="John Brodie":MAILTO:john.brodie@sldmwa.org
END:VEVENT
BEGIN:VEVENT
DTSTART;TZID=America/Denver:20240501T130000
DTEND;TZID=America/Denver:20240501T150000
DTSTAMP:20260424T113815
CREATED:20240426T195738Z
LAST-MODIFIED:20240430T145434Z
UID:10000425-1714568400-1714575600@deltamendota.org
SUMMARY:Meeting: Northern Delta-Mendota Region Management Committee
DESCRIPTION:050124 NMC Meeting Notice and Agenda-Final
URL:https://deltamendota.org/event/meeting-northern-delta-mendota-region-management-committee/
LOCATION:Patterson City Hall\, 1 Plaza Circle\, Patterson\, CA\, 95363\, United States
ORGANIZER;CN="John Brodie":MAILTO:john.brodie@sldmwa.org
END:VEVENT
BEGIN:VEVENT
DTSTART;TZID=America/Denver:20240429T212938
DTEND;TZID=America/Denver:20240429T212938
DTSTAMP:20260424T113815
CREATED:20200724T163607Z
LAST-MODIFIED:20200724T163607Z
UID:10000411-1714426178-1714426178@deltamendota.org
SUMMARY:Telephonic Meeting of the Central Delta-Mendota GSA
DESCRIPTION:Notice and Agenda
URL:https://deltamendota.org/event/central-gsa-july-2020/
LOCATION:CA
END:VEVENT
BEGIN:VEVENT
DTSTART;TZID=America/Denver:20240429T212938
DTEND;TZID=America/Denver:20240429T212938
DTSTAMP:20260424T113815
CREATED:20200717T202212Z
LAST-MODIFIED:20200717T202212Z
UID:10000308-1714426178-1714426178@deltamendota.org
SUMMARY:Special Joint Telephonic Meeting of the Northern and Central Management Committees and Central GSA
DESCRIPTION:First meeting to discuss well permitting processes in the Northern and Central Delta-Mendota Regions \nNotice and Agenda
URL:https://deltamendota.org/event/special-joint-northern-central-management-central-gsa-july-2020/
LOCATION:CA
CATEGORIES:N&C DM Management Committee
END:VEVENT
BEGIN:VEVENT
DTSTART;TZID=America/Denver:20240425T100000
DTEND;TZID=America/Denver:20240425T120000
DTSTAMP:20260424T113815
CREATED:20240419T175348Z
LAST-MODIFIED:20240419T175348Z
UID:10000423-1714039200-1714046400@deltamendota.org
SUMMARY:Special Joint Meeting: Central Delta-Mendota Region Management Committee and Central Delta-Mendota GSA JPA
DESCRIPTION:042524 C Meeting Notice and Agenda-final
URL:https://deltamendota.org/event/special-joint-meeting-central-delta-mendota-region-management-committee-and-central-delta-mendota-gsa-jpa/
LOCATION:San Luis & Delta-Mendota Water Authority – Los Banos Office\, 842 6th St\, Los Banos\, CA\, Los Banos\, CA\, 93635\, United States
ORGANIZER;CN="John Brodie":MAILTO:john.brodie@sldmwa.org
GEO:37.0610781;-120.847641
X-APPLE-STRUCTURED-LOCATION;VALUE=URI;X-ADDRESS=San Luis & Delta-Mendota Water Authority – Los Banos Office 842 6th St Los Banos CA Los Banos CA 93635 United States;X-APPLE-RADIUS=500;X-TITLE=842 6th St\, Los Banos\, CA:geo:-120.847641,37.0610781
END:VEVENT
BEGIN:VEVENT
DTSTART;TZID=America/Denver:20240423T100000
DTEND;TZID=America/Denver:20240423T153000
DTSTAMP:20260424T113815
CREATED:20240419T171737Z
LAST-MODIFIED:20240419T171737Z
UID:10000536-1713866400-1713886200@deltamendota.org
SUMMARY:Special Joint Meeting of the Northern Delta-Mendota Region Management Committee and Delta-Mendota Subbasin Coordination Committee
DESCRIPTION:042324 NMC-CC Agenda-final
URL:https://deltamendota.org/event/special-joint-meeting-of-the-northern-delta-mendota-region-management-committee-and-delta-mendota-subbasin-coordination-committee/
LOCATION:Patterson City Hall\, 1 Plaza Circle\, Patterson\, CA\, 95363\, United States
END:VEVENT
BEGIN:VEVENT
DTSTART;TZID=America/Denver:20240422T130000
DTEND;TZID=America/Denver:20240422T163000
DTSTAMP:20260424T113815
CREATED:20240419T162443Z
LAST-MODIFIED:20240419T162443Z
UID:10000535-1713790800-1713803400@deltamendota.org
SUMMARY:Special Meeting: Delta-Mendota Subbasin Coordination Committee and Technical Working Group
DESCRIPTION:042224 Special CC TWG Meeting Agenda-final
URL:https://deltamendota.org/event/special-meeting-delta-mendota-subbasin-coordination-committee-and-technical-working-group-3/
LOCATION:San Luis & Delta-Mendota Water Authority – Los Banos Office\, 842 6th St\, Los Banos\, CA\, Los Banos\, CA\, 93635\, United States
ORGANIZER;CN="John Brodie":MAILTO:john.brodie@sldmwa.org
GEO:37.0610781;-120.847641
X-APPLE-STRUCTURED-LOCATION;VALUE=URI;X-ADDRESS=San Luis & Delta-Mendota Water Authority – Los Banos Office 842 6th St Los Banos CA Los Banos CA 93635 United States;X-APPLE-RADIUS=500;X-TITLE=842 6th St\, Los Banos\, CA:geo:-120.847641,37.0610781
END:VEVENT
BEGIN:VEVENT
DTSTART;TZID=America/Denver:20240408T130000
DTEND;TZID=America/Denver:20240408T163000
DTSTAMP:20260424T113815
CREATED:20240404T204941Z
LAST-MODIFIED:20240404T204941Z
UID:10000534-1712581200-1712593800@deltamendota.org
SUMMARY:Meeting Notice: Delta-Mendota Subbasin Coordination Committee
DESCRIPTION:040824 CC Meeting Agenda-final
URL:https://deltamendota.org/event/meeting-notice-delta-mendota-subbasin-coordination-committee/
LOCATION:San Luis & Delta-Mendota Water Authority – Los Banos Office\, 842 6th St\, Los Banos\, CA\, Los Banos\, CA\, 93635\, United States
ORGANIZER;CN="John Brodie":MAILTO:john.brodie@sldmwa.org
GEO:37.0610781;-120.847641
X-APPLE-STRUCTURED-LOCATION;VALUE=URI;X-ADDRESS=San Luis & Delta-Mendota Water Authority – Los Banos Office 842 6th St Los Banos CA Los Banos CA 93635 United States;X-APPLE-RADIUS=500;X-TITLE=842 6th St\, Los Banos\, CA:geo:-120.847641,37.0610781
END:VEVENT
BEGIN:VEVENT
DTSTART;TZID=America/Denver:20240328T100000
DTEND;TZID=America/Denver:20240328T120000
DTSTAMP:20260424T113815
CREATED:20240325T151622Z
LAST-MODIFIED:20240325T151622Z
UID:10000532-1711620000-1711627200@deltamendota.org
SUMMARY:Central Delta-Mendota Region Management Committee Meeting
DESCRIPTION:032824 CMC Meeting Notice and Agenda-Final
URL:https://deltamendota.org/event/central-delta-mendota-region-management-committee-meeting/
LOCATION:San Luis & Delta-Mendota Water Authority – Los Banos Office\, 842 6th St\, Los Banos\, CA\, Los Banos\, CA\, 93635\, United States
ORGANIZER;CN="John Brodie":MAILTO:john.brodie@sldmwa.org
GEO:37.0610781;-120.847641
X-APPLE-STRUCTURED-LOCATION;VALUE=URI;X-ADDRESS=San Luis & Delta-Mendota Water Authority – Los Banos Office 842 6th St Los Banos CA Los Banos CA 93635 United States;X-APPLE-RADIUS=500;X-TITLE=842 6th St\, Los Banos\, CA:geo:-120.847641,37.0610781
END:VEVENT
BEGIN:VEVENT
DTSTART;TZID=America/Denver:20240326T130000
DTEND;TZID=America/Denver:20240326T150000
DTSTAMP:20260424T113815
CREATED:20240325T154047Z
LAST-MODIFIED:20240325T154047Z
UID:10000533-1711458000-1711465200@deltamendota.org
SUMMARY:Special Meeting: Northern Delta-Mendota Region Management Committee
DESCRIPTION:032624 NMC Special Meeting Notice and Agenda-Final
URL:https://deltamendota.org/event/special-meeting-northern-delta-mendota-region-management-committee-6/
LOCATION:Patterson City Hall\, 1 Plaza Circle\, Patterson\, CA\, 95363\, United States
ORGANIZER;CN="John Brodie":MAILTO:john.brodie@sldmwa.org
END:VEVENT
BEGIN:VEVENT
DTSTART;TZID=America/Denver:20240325T130000
DTEND;TZID=America/Denver:20240325T160000
DTSTAMP:20260424T113815
CREATED:20240319T222439Z
LAST-MODIFIED:20240319T222439Z
UID:10000531-1711371600-1711382400@deltamendota.org
SUMMARY:Special Meeting: Delta-Mendota Subbasin Coordination Committee and Technical Working Group
DESCRIPTION:032524 Special CC TWG Meeting Agenda-final
URL:https://deltamendota.org/event/special-meeting-delta-mendota-subbasin-coordination-committee-and-technical-working-group-2/
LOCATION:San Luis & Delta-Mendota Water Authority – Los Banos Office\, 842 6th St\, Los Banos\, CA\, Los Banos\, CA\, 93635\, United States
ORGANIZER;CN="John Brodie":MAILTO:john.brodie@sldmwa.org
GEO:37.0610781;-120.847641
X-APPLE-STRUCTURED-LOCATION;VALUE=URI;X-ADDRESS=San Luis & Delta-Mendota Water Authority – Los Banos Office 842 6th St Los Banos CA Los Banos CA 93635 United States;X-APPLE-RADIUS=500;X-TITLE=842 6th St\, Los Banos\, CA:geo:-120.847641,37.0610781
END:VEVENT
BEGIN:VEVENT
DTSTART;TZID=America/Denver:20240311T130000
DTEND;TZID=America/Denver:20240311T163000
DTSTAMP:20260424T113815
CREATED:20240308T215735Z
LAST-MODIFIED:20240308T215735Z
UID:10000530-1710162000-1710174600@deltamendota.org
SUMMARY:Delta-Mendota Subbasin Coordination Committee Regular Meeting
DESCRIPTION:031124 CC Meeting Notice and Agenda-final
URL:https://deltamendota.org/event/delta-mendota-subbasin-coordination-committee-regular-meeting/
LOCATION:San Luis & Delta-Mendota Water Authority – Los Banos Office\, 842 6th St\, Los Banos\, CA\, Los Banos\, CA\, 93635\, United States
ORGANIZER;CN="John Brodie":MAILTO:john.brodie@sldmwa.org
GEO:37.0610781;-120.847641
X-APPLE-STRUCTURED-LOCATION;VALUE=URI;X-ADDRESS=San Luis & Delta-Mendota Water Authority – Los Banos Office 842 6th St Los Banos CA Los Banos CA 93635 United States;X-APPLE-RADIUS=500;X-TITLE=842 6th St\, Los Banos\, CA:geo:-120.847641,37.0610781
END:VEVENT
BEGIN:VEVENT
DTSTART;TZID=America/Denver:20240306T140000
DTEND;TZID=America/Denver:20240306T160000
DTSTAMP:20260424T113815
CREATED:20240302T003823Z
LAST-MODIFIED:20240302T003823Z
UID:10000529-1709733600-1709740800@deltamendota.org
SUMMARY:Northern Delta-Mendota Region Management Committee
DESCRIPTION:030624 NMC Meeting Notice and Agenda-Final
URL:https://deltamendota.org/event/northern-delta-mendota-region-management-committee-3/
LOCATION:Patterson City Hall\, 1 Plaza Circle\, Patterson\, CA\, 95363\, United States
ORGANIZER;CN="John Brodie":MAILTO:john.brodie@sldmwa.org
END:VEVENT
BEGIN:VEVENT
DTSTART;TZID=America/Denver:20240227T120000
DTEND;TZID=America/Denver:20240227T140000
DTSTAMP:20260424T113815
CREATED:20240226T180720Z
LAST-MODIFIED:20240226T180720Z
UID:10000528-1709035200-1709042400@deltamendota.org
SUMMARY:Special Meeting: Northern Delta-Mendota Region Management Committee
DESCRIPTION:022724 NMC Meeting Notice and Agenda-final
URL:https://deltamendota.org/event/special-meeting-northern-delta-mendota-region-management-committee-5/
LOCATION:Patterson City Hall\, 1 Plaza Circle\, Patterson\, CA\, 95363\, United States
ORGANIZER;CN="John Brodie":MAILTO:john.brodie@sldmwa.org
END:VEVENT
BEGIN:VEVENT
DTSTART;TZID=America/Denver:20240222T100000
DTEND;TZID=America/Denver:20240222T120000
DTSTAMP:20260424T113815
CREATED:20240216T005637Z
LAST-MODIFIED:20240216T005637Z
UID:10000527-1708596000-1708603200@deltamendota.org
SUMMARY:Regular Meeting: Central Delta-Mendota Region Management Committee
DESCRIPTION:022224 C Meeting Notice and Agenda-Final
URL:https://deltamendota.org/event/regular-meeting-central-delta-mendota-region-management-committee-2/
LOCATION:San Luis & Delta-Mendota Water Authority – Los Banos Office\, 842 6th St\, Los Banos\, CA\, Los Banos\, CA\, 93635\, United States
ORGANIZER;CN="John Brodie":MAILTO:john.brodie@sldmwa.org
GEO:37.0610781;-120.847641
X-APPLE-STRUCTURED-LOCATION;VALUE=URI;X-ADDRESS=San Luis & Delta-Mendota Water Authority – Los Banos Office 842 6th St Los Banos CA Los Banos CA 93635 United States;X-APPLE-RADIUS=500;X-TITLE=842 6th St\, Los Banos\, CA:geo:-120.847641,37.0610781
END:VEVENT
BEGIN:VEVENT
DTSTART;TZID=America/Denver:20240212T130000
DTEND;TZID=America/Denver:20240212T160000
DTSTAMP:20260424T113815
CREATED:20240209T005158Z
LAST-MODIFIED:20240209T005158Z
UID:10000526-1707742800-1707753600@deltamendota.org
SUMMARY:Regular Meeting: Delta-Mendota Subbasin Coordination committee
DESCRIPTION:021224 CC Meeting Agenda-final
URL:https://deltamendota.org/event/regular-meeting-delta-mendota-subbasin-coordination-committee-4/
LOCATION:San Luis & Delta-Mendota Water Authority – Los Banos Office\, 842 6th St\, Los Banos\, CA\, Los Banos\, CA\, 93635\, United States
ORGANIZER;CN="John Brodie":MAILTO:john.brodie@sldmwa.org
GEO:37.0610781;-120.847641
X-APPLE-STRUCTURED-LOCATION;VALUE=URI;X-ADDRESS=San Luis & Delta-Mendota Water Authority – Los Banos Office 842 6th St Los Banos CA Los Banos CA 93635 United States;X-APPLE-RADIUS=500;X-TITLE=842 6th St\, Los Banos\, CA:geo:-120.847641,37.0610781
END:VEVENT
BEGIN:VEVENT
DTSTART;TZID=America/Denver:20240207T140000
DTEND;TZID=America/Denver:20240207T160000
DTSTAMP:20260424T113815
CREATED:20240131T225336Z
LAST-MODIFIED:20240131T225336Z
UID:10000525-1707314400-1707321600@deltamendota.org
SUMMARY:Regular Meeting: Northern Delta-Mendota Region Management Committee
DESCRIPTION:020724 NMC Meeting Notice and Agenda-final
URL:https://deltamendota.org/event/regular-meeting-northern-delta-mendota-region-management-committee-3/
LOCATION:Patterson City Hall\, 1 Plaza Circle\, Patterson\, CA\, 95363\, United States
ORGANIZER;CN="John Brodie":MAILTO:john.brodie@sldmwa.org
END:VEVENT
BEGIN:VEVENT
DTSTART;TZID=America/Denver:20240122T100000
DTEND;TZID=America/Denver:20240122T120000
DTSTAMP:20260424T113815
CREATED:20240118T181250Z
LAST-MODIFIED:20240118T181250Z
UID:10000524-1705917600-1705924800@deltamendota.org
SUMMARY:Special Meeting: Central Delta-Mendota Region Management Committee and Central Delta-Mendota Region GSA JPA
DESCRIPTION:012224 Special C Meeting Notice and Agenda-Final
URL:https://deltamendota.org/event/special-meeting-central-delta-mendota-region-management-committee-and-central-delta-mendota-region-gsa-jpa/
LOCATION:San Luis & Delta-Mendota Water Authority – Los Banos Office\, 842 6th St\, Los Banos\, CA\, Los Banos\, CA\, 93635\, United States
ORGANIZER;CN="John Brodie":MAILTO:john.brodie@sldmwa.org
GEO:37.0610781;-120.847641
X-APPLE-STRUCTURED-LOCATION;VALUE=URI;X-ADDRESS=San Luis & Delta-Mendota Water Authority – Los Banos Office 842 6th St Los Banos CA Los Banos CA 93635 United States;X-APPLE-RADIUS=500;X-TITLE=842 6th St\, Los Banos\, CA:geo:-120.847641,37.0610781
END:VEVENT
BEGIN:VEVENT
DTSTART;TZID=America/Denver:20240118T140000
DTEND;TZID=America/Denver:20240118T160000
DTSTAMP:20260424T113815
CREATED:20240117T012237Z
LAST-MODIFIED:20240117T012237Z
UID:10000522-1705586400-1705593600@deltamendota.org
SUMMARY:Special Meeting: Northern Delta-Mendota Region Management Committee
DESCRIPTION:011824 NMC Special Meeting Notice and Agenda
URL:https://deltamendota.org/event/special-meeting-northern-delta-mendota-region-management-committee-4/
LOCATION:Patterson City Hall\, 1 Plaza Circle\, Patterson\, CA\, 95363\, United States
ORGANIZER;CN="John Brodie":MAILTO:john.brodie@sldmwa.org
END:VEVENT
BEGIN:VEVENT
DTSTART;TZID=America/Denver:20240108T130000
DTEND;TZID=America/Denver:20240108T163000
DTSTAMP:20260424T113815
CREATED:20240105T010859Z
LAST-MODIFIED:20240105T010859Z
UID:10000523-1704718800-1704731400@deltamendota.org
SUMMARY:Regular Meeting: Delta-Mendota Subbasin Coordination Committee
DESCRIPTION:010824 CC Meeting Agenda-final
URL:https://deltamendota.org/event/regular-meeting-delta-mendota-subbasin-coordination-committee-3/
LOCATION:Grassland Water District Office\, 200 W Wilmott Ave\, Los Banos\, CA\, United States
ORGANIZER;CN="John Brodie":MAILTO:john.brodie@sldmwa.org
END:VEVENT
BEGIN:VEVENT
DTSTART;TZID=America/Denver:20231215T100000
DTEND;TZID=America/Denver:20231215T120000
DTSTAMP:20260424T113815
CREATED:20231213T234635Z
LAST-MODIFIED:20231213T234635Z
UID:10000521-1702634400-1702641600@deltamendota.org
SUMMARY:Special Joint Meeting of the Central Delta-Mendota Region Management Committee and Central Delta-Mendota GSA JPA
DESCRIPTION:121523 CGSA-CMC Joint Meeting Notice and Agenda-final
URL:https://deltamendota.org/event/special-joint-meeting-of-the-central-delta-mendota-region-management-committee-and-central-delta-mendota-gsa-jpa/
LOCATION:Santa Nella County Water District\, 12931 S Hwy 33\, Santa Nella\, CA\, 95322\, United States
ORGANIZER;CN="John Brodie":MAILTO:john.brodie@sldmwa.org
END:VEVENT
BEGIN:VEVENT
DTSTART;TZID=America/Denver:20231211T130000
DTEND;TZID=America/Denver:20231211T163000
DTSTAMP:20260424T113815
CREATED:20231208T181147Z
LAST-MODIFIED:20231208T181147Z
UID:10000520-1702299600-1702312200@deltamendota.org
SUMMARY:Regular Meeting: Delta-Mendota Subbasin Coordination Committee
DESCRIPTION:121123 CC Meeting Agenda-final
URL:https://deltamendota.org/event/regular-meeting-delta-mendota-subbasin-coordination-committee-2/
LOCATION:San Luis & Delta-Mendota Water Authority – Los Banos Office\, 842 6th St\, Los Banos\, CA\, Los Banos\, CA\, 93635\, United States
ORGANIZER;CN="John Brodie":MAILTO:john.brodie@sldmwa.org
GEO:37.0610781;-120.847641
X-APPLE-STRUCTURED-LOCATION;VALUE=URI;X-ADDRESS=San Luis & Delta-Mendota Water Authority – Los Banos Office 842 6th St Los Banos CA Los Banos CA 93635 United States;X-APPLE-RADIUS=500;X-TITLE=842 6th St\, Los Banos\, CA:geo:-120.847641,37.0610781
END:VEVENT
BEGIN:VEVENT
DTSTART;TZID=America/Denver:20231206T140000
DTEND;TZID=America/Denver:20231206T160000
DTSTAMP:20260424T113815
CREATED:20231201T231619Z
LAST-MODIFIED:20231201T231619Z
UID:10000519-1701871200-1701878400@deltamendota.org
SUMMARY:Regular Meeting: Northern Delta-Mendota Region Management Committee
DESCRIPTION:120623 NMC Meeting Notice and Agenda
URL:https://deltamendota.org/event/regular-meeting-northern-delta-mendota-region-management-committee-2/
LOCATION:Patterson City Hall\, 1 Plaza Circle\, Patterson\, CA\, 95363\, United States
ORGANIZER;CN="John Brodie":MAILTO:john.brodie@sldmwa.org
END:VEVENT
BEGIN:VEVENT
DTSTART;TZID=America/Denver:20231113T130000
DTEND;TZID=America/Denver:20231113T163000
DTSTAMP:20260424T113815
CREATED:20231109T235139Z
LAST-MODIFIED:20231109T235139Z
UID:10000518-1699880400-1699893000@deltamendota.org
SUMMARY:Regular Meeting: Delta-Mendota Subbasin Coordination Committee
DESCRIPTION:111323 CC Meeting Agenda-Final
URL:https://deltamendota.org/event/regular-meeting-delta-mendota-subbasin-coordination-committee/
LOCATION:San Luis & Delta-Mendota Water Authority – Los Banos Office\, 842 6th St\, Los Banos\, CA\, Los Banos\, CA\, 93635\, United States
ORGANIZER;CN="John Brodie":MAILTO:john.brodie@sldmwa.org
GEO:37.0610781;-120.847641
X-APPLE-STRUCTURED-LOCATION;VALUE=URI;X-ADDRESS=San Luis & Delta-Mendota Water Authority – Los Banos Office 842 6th St Los Banos CA Los Banos CA 93635 United States;X-APPLE-RADIUS=500;X-TITLE=842 6th St\, Los Banos\, CA:geo:-120.847641,37.0610781
END:VEVENT
BEGIN:VEVENT
DTSTART;TZID=America/Denver:20231101T140000
DTEND;TZID=America/Denver:20231101T160000
DTSTAMP:20260424T113815
CREATED:20231020T210242Z
LAST-MODIFIED:20231028T002512Z
UID:10000517-1698847200-1698854400@deltamendota.org
SUMMARY:Regular Meeting: Northern Delta-Mendota Region Management Committee
DESCRIPTION:110123 NMC Meeting Notice and Agenda-Final
URL:https://deltamendota.org/event/regular-meeting-northern-delta-mendota-region-management-committee/
LOCATION:Patterson City Hall\, 1 Plaza Circle\, Patterson\, CA\, 95363\, United States
ORGANIZER;CN="John Brodie":MAILTO:john.brodie@sldmwa.org
END:VEVENT
BEGIN:VEVENT
DTSTART;TZID=America/Denver:20231030T100000
DTEND;TZID=America/Denver:20231030T120000
DTSTAMP:20260424T113815
CREATED:20231020T210033Z
LAST-MODIFIED:20231020T210033Z
UID:10000516-1698660000-1698667200@deltamendota.org
SUMMARY:Special Joint Meeting of the Central Delta-Mendota Region Managment Committee and Central Delta-Mendota GSA JPA
DESCRIPTION:103023 CMC-CGSA Meeting Notice and Agenda-Final
URL:https://deltamendota.org/event/special-joint-meeting-of-the-central-delta-mendota-region-managment-committee-and-central-delta-mendota-gsa-jpa/
LOCATION:San Luis & Delta-Mendota Water Authority – Los Banos Office\, 842 6th St\, Los Banos\, CA\, Los Banos\, CA\, 93635\, United States
ORGANIZER;CN="John Brodie":MAILTO:john.brodie@sldmwa.org
GEO:37.0610781;-120.847641
X-APPLE-STRUCTURED-LOCATION;VALUE=URI;X-ADDRESS=San Luis & Delta-Mendota Water Authority – Los Banos Office 842 6th St Los Banos CA Los Banos CA 93635 United States;X-APPLE-RADIUS=500;X-TITLE=842 6th St\, Los Banos\, CA:geo:-120.847641,37.0610781
END:VEVENT
BEGIN:VEVENT
DTSTART;TZID=America/Denver:20231009T130000
DTEND;TZID=America/Denver:20231009T163000
DTSTAMP:20260424T113815
CREATED:20231004T235221Z
LAST-MODIFIED:20231006T200455Z
UID:10000515-1696856400-1696869000@deltamendota.org
SUMMARY:Delta-Mendota Subbasin Coordination Committee Meeting
DESCRIPTION:100923 CC Meeting Agenda-Amend \n  \nUpdating the meeting agenda.
URL:https://deltamendota.org/event/delta-mendota-subbasin-coordination-committee-meeting-5/
LOCATION:San Luis & Delta-Mendota Water Authority – Los Banos Office\, 842 6th St\, Los Banos\, CA\, Los Banos\, CA\, 93635\, United States
ORGANIZER;CN="John Brodie":MAILTO:john.brodie@sldmwa.org
GEO:37.0610781;-120.847641
X-APPLE-STRUCTURED-LOCATION;VALUE=URI;X-ADDRESS=San Luis & Delta-Mendota Water Authority – Los Banos Office 842 6th St Los Banos CA Los Banos CA 93635 United States;X-APPLE-RADIUS=500;X-TITLE=842 6th St\, Los Banos\, CA:geo:-120.847641,37.0610781
END:VEVENT
BEGIN:VEVENT
DTSTART;TZID=America/Denver:20231004T140000
DTEND;TZID=America/Denver:20231004T160000
DTSTAMP:20260424T113815
CREATED:20230929T194810Z
LAST-MODIFIED:20230929T194810Z
UID:10000514-1696428000-1696435200@deltamendota.org
SUMMARY:Northern Delta-Mendota Region Management Committee
DESCRIPTION:100423 NMC Meeting Notice and Agenda-Final
URL:https://deltamendota.org/event/northern-delta-mendota-region-management-committee-2/
LOCATION:Patterson City Hall\, 1 Plaza Circle\, Patterson\, CA\, 95363\, United States
ORGANIZER;CN="John Brodie":MAILTO:john.brodie@sldmwa.org
END:VEVENT
BEGIN:VEVENT
DTSTART;TZID=America/Denver:20230928T100000
DTEND;TZID=America/Denver:20230928T120000
DTSTAMP:20260424T113815
CREATED:20230925T164328Z
LAST-MODIFIED:20230925T164328Z
UID:10000513-1695895200-1695902400@deltamendota.org
SUMMARY:Regular Meeting: Central Delta-Mendota Region Management Committee
DESCRIPTION:092823 CMC Meeting Notice and Agenda-Final
URL:https://deltamendota.org/event/regular-meeting-central-delta-mendota-region-management-committee/
LOCATION:San Luis & Delta-Mendota Water Authority – Los Banos Office\, 842 6th St\, Los Banos\, CA\, Los Banos\, CA\, 93635\, United States
ORGANIZER;CN="John Brodie":MAILTO:john.brodie@sldmwa.org
GEO:37.0610781;-120.847641
X-APPLE-STRUCTURED-LOCATION;VALUE=URI;X-ADDRESS=San Luis & Delta-Mendota Water Authority – Los Banos Office 842 6th St Los Banos CA Los Banos CA 93635 United States;X-APPLE-RADIUS=500;X-TITLE=842 6th St\, Los Banos\, CA:geo:-120.847641,37.0610781
END:VEVENT
BEGIN:VEVENT
DTSTART;TZID=America/Denver:20230921T130000
DTEND;TZID=America/Denver:20230921T160000
DTSTAMP:20260424T113815
CREATED:20230919T195740Z
LAST-MODIFIED:20230919T195740Z
UID:10000512-1695301200-1695312000@deltamendota.org
SUMMARY:Special Meeting: Delta-Mendota Subbasin Coordination Committee
DESCRIPTION:092123 CC Special Meeting Agenda-final
URL:https://deltamendota.org/event/special-meeting-delta-mendota-subbasin-coordination-committee-7/
LOCATION:San Luis & Delta-Mendota Water Authority – Los Banos Office\, 842 6th St\, Los Banos\, CA\, Los Banos\, CA\, 93635\, United States
ORGANIZER;CN="John Brodie":MAILTO:john.brodie@sldmwa.org
GEO:37.0610781;-120.847641
X-APPLE-STRUCTURED-LOCATION;VALUE=URI;X-ADDRESS=San Luis & Delta-Mendota Water Authority – Los Banos Office 842 6th St Los Banos CA Los Banos CA 93635 United States;X-APPLE-RADIUS=500;X-TITLE=842 6th St\, Los Banos\, CA:geo:-120.847641,37.0610781
END:VEVENT
END:VCALENDAR