BEGIN:VCALENDAR
VERSION:2.0
PRODID:-//Delta-Mendota SGMA - ECPv6.13.2.1//NONSGML v1.0//EN
CALSCALE:GREGORIAN
METHOD:PUBLISH
X-WR-CALNAME:Delta-Mendota SGMA
X-ORIGINAL-URL:https://deltamendota.org
X-WR-CALDESC:Events for Delta-Mendota SGMA
REFRESH-INTERVAL;VALUE=DURATION:PT1H
X-Robots-Tag:noindex
X-PUBLISHED-TTL:PT1H
BEGIN:VTIMEZONE
TZID:America/Los_Angeles
BEGIN:DAYLIGHT
TZOFFSETFROM:-0800
TZOFFSETTO:-0700
TZNAME:PDT
DTSTART:20240310T100000
END:DAYLIGHT
BEGIN:STANDARD
TZOFFSETFROM:-0700
TZOFFSETTO:-0800
TZNAME:PST
DTSTART:20241103T090000
END:STANDARD
END:VTIMEZONE
BEGIN:VEVENT
DTSTART;TZID=America/Los_Angeles:20241118T100000
DTEND;TZID=America/Los_Angeles:20241118T120000
DTSTAMP:20260424T063637
CREATED:20241115T222804Z
LAST-MODIFIED:20241115T222804Z
UID:10000564-1731924000-1731931200@deltamendota.org
SUMMARY:Special Meeting: Central Delta-Mendota Region Management Committee
DESCRIPTION:111824 CMC Special Meeting Notice and Agenda
URL:https://deltamendota.org/event/special-meeting-central-delta-mendota-region-management-committee-2/
LOCATION:San Luis & Delta-Mendota Water Authority – Los Banos Office\, 842 6th St\, Los Banos\, CA\, Los Banos\, CA\, 93635\, United States
ORGANIZER;CN="John Brodie":MAILTO:john.brodie@sldmwa.org
GEO:37.0610781;-120.847641
X-APPLE-STRUCTURED-LOCATION;VALUE=URI;X-ADDRESS=San Luis & Delta-Mendota Water Authority – Los Banos Office 842 6th St Los Banos CA Los Banos CA 93635 United States;X-APPLE-RADIUS=500;X-TITLE=842 6th St\, Los Banos\, CA:geo:-120.847641,37.0610781
END:VEVENT
BEGIN:VEVENT
DTSTART;TZID=America/Los_Angeles:20241113T100000
DTEND;TZID=America/Los_Angeles:20241113T143000
DTSTAMP:20260424T063637
CREATED:20241108T231813Z
LAST-MODIFIED:20241108T231813Z
UID:10000563-1731492000-1731508200@deltamendota.org
SUMMARY:Special Meeting: Delta-Mendota Subbasin Coordination Committee
DESCRIPTION:111324 Special CC Agenda
URL:https://deltamendota.org/event/special-meeting-delta-mendota-subbasin-coordination-committee-11/
LOCATION:Multiple Locations: Please Check the Agenda
END:VEVENT
BEGIN:VEVENT
DTSTART;TZID=America/Los_Angeles:20241112T130000
DTEND;TZID=America/Los_Angeles:20241112T160000
DTSTAMP:20260424T063637
CREATED:20241108T222704Z
LAST-MODIFIED:20241108T222704Z
UID:10000562-1731416400-1731427200@deltamendota.org
SUMMARY:Special Meeting: Delta-Mendota Subbasin Coordination Committee
DESCRIPTION:111224 CC Meeting Agenda
URL:https://deltamendota.org/event/special-meeting-delta-mendota-subbasin-coordination-committee-10/
LOCATION:San Luis & Delta-Mendota Water Authority – Los Banos Office\, 842 6th St\, Los Banos\, CA\, Los Banos\, CA\, 93635\, United States
ORGANIZER;CN="John Brodie":MAILTO:john.brodie@sldmwa.org
GEO:37.0610781;-120.847641
X-APPLE-STRUCTURED-LOCATION;VALUE=URI;X-ADDRESS=San Luis & Delta-Mendota Water Authority – Los Banos Office 842 6th St Los Banos CA Los Banos CA 93635 United States;X-APPLE-RADIUS=500;X-TITLE=842 6th St\, Los Banos\, CA:geo:-120.847641,37.0610781
END:VEVENT
BEGIN:VEVENT
DTSTART;TZID=America/Los_Angeles:20241108T110000
DTEND;TZID=America/Los_Angeles:20241108T120000
DTSTAMP:20260424T063637
CREATED:20241106T180532Z
LAST-MODIFIED:20241106T180532Z
UID:10000561-1731063600-1731067200@deltamendota.org
SUMMARY:Special Meeting: Central Delta-Mendota Region Management Committee
DESCRIPTION:110824 CMC Meeting Notice and Agenda-final
URL:https://deltamendota.org/event/special-meeting-central-delta-mendota-region-management-committee/
LOCATION:San Luis & Delta-Mendota Water Authority – Los Banos Office\, 842 6th St\, Los Banos\, CA\, Los Banos\, CA\, 93635\, United States
ORGANIZER;CN="John Brodie":MAILTO:john.brodie@sldmwa.org
GEO:37.0610781;-120.847641
X-APPLE-STRUCTURED-LOCATION;VALUE=URI;X-ADDRESS=San Luis & Delta-Mendota Water Authority – Los Banos Office 842 6th St Los Banos CA Los Banos CA 93635 United States;X-APPLE-RADIUS=500;X-TITLE=842 6th St\, Los Banos\, CA:geo:-120.847641,37.0610781
END:VEVENT
BEGIN:VEVENT
DTSTART;TZID=America/Los_Angeles:20241106T130000
DTEND;TZID=America/Los_Angeles:20241106T150000
DTSTAMP:20260424T063637
CREATED:20241105T183334Z
LAST-MODIFIED:20241105T183334Z
UID:10000560-1730898000-1730905200@deltamendota.org
SUMMARY:Special Meeting Agenda: Northern Delta-Mendota Region Management Committee
DESCRIPTION:110624 Special N mtg agenda \nAdding this Special Agenda to address an urgent action item for the Commitee to consider.
URL:https://deltamendota.org/event/special-meeting-agenda-northern-delta-mendota-region-management-committee/
LOCATION:Patterson City Hall\, 1 Plaza Circle\, Patterson\, CA\, 95363\, United States
ORGANIZER;CN="John Brodie":MAILTO:john.brodie@sldmwa.org
END:VEVENT
BEGIN:VEVENT
DTSTART;TZID=America/Los_Angeles:20241106T130000
DTEND;TZID=America/Los_Angeles:20241106T150000
DTSTAMP:20260424T063637
CREATED:20241101T210630Z
LAST-MODIFIED:20241101T210630Z
UID:10000559-1730898000-1730905200@deltamendota.org
SUMMARY:Meeting: Northern Delta-Mendota Region Management Committee
DESCRIPTION:110624 N mtg agenda-final
URL:https://deltamendota.org/event/meeting-northern-delta-mendota-region-management-committee-2/
LOCATION:Patterson City Hall\, 1 Plaza Circle\, Patterson\, CA\, 95363\, United States
ORGANIZER;CN="John Brodie":MAILTO:john.brodie@sldmwa.org
END:VEVENT
BEGIN:VEVENT
DTSTART;TZID=America/Los_Angeles:20241101T070000
DTEND;TZID=America/Los_Angeles:20241101T080000
DTSTAMP:20260424T063637
CREATED:20241031T143547Z
LAST-MODIFIED:20241031T143547Z
UID:10000558-1730444400-1730448000@deltamendota.org
SUMMARY:Special Joint Meeting: Delta Mendota Subbasin Coordination Committee and Northern Delta-Mendota Region Management Committee
DESCRIPTION:110124 Special CC-NMC Agenda-final
URL:https://deltamendota.org/event/special-joint-meeting-delta-mendota-subbasin-coordination-committee-and-northern-delta-mendota-region-management-committee/
LOCATION:Multiple Locations: Please Check the Agenda
ORGANIZER;CN="John Brodie":MAILTO:john.brodie@sldmwa.org
END:VEVENT
BEGIN:VEVENT
DTSTART;TZID=America/Los_Angeles:20241028T110000
DTEND;TZID=America/Los_Angeles:20241028T120000
DTSTAMP:20260424T063637
CREATED:20241025T221218Z
LAST-MODIFIED:20241025T221218Z
UID:10000557-1730113200-1730116800@deltamendota.org
SUMMARY:Special Meeting: Delta-Mendota Subbasin Coordination Committee
DESCRIPTION:102824 Special CC Agenda-final
URL:https://deltamendota.org/event/special-meeting-delta-mendota-subbasin-coordination-committee-9/
LOCATION:San Luis & Delta-Mendota Water Authority Boardroom\, 842 6th St.\,. Los Banos\, CA or Provost & Pritchard Consulting Group\, 455 W. Fir Ave.\, Clovis\, CA
ORGANIZER;CN="John Brodie":MAILTO:john.brodie@sldmwa.org
END:VEVENT
BEGIN:VEVENT
DTSTART;TZID=America/Los_Angeles:20241024T100000
DTEND;TZID=America/Los_Angeles:20241024T120000
DTSTAMP:20260424T063637
CREATED:20241018T220705Z
LAST-MODIFIED:20241018T220705Z
UID:10000556-1729764000-1729771200@deltamendota.org
SUMMARY:Special Joint Meeting: Central Delta-Mendota Region Management Committee and Central Delta-Mendota GSA JPA
DESCRIPTION:102424 CMC CGSA Meeting Notice and Agenda
URL:https://deltamendota.org/event/special-joint-meeting-central-delta-mendota-region-management-committee-and-central-delta-mendota-gsa-jpa-2/
LOCATION:San Luis & Delta-Mendota Water Authority – Los Banos Office\, 842 6th St\, Los Banos\, CA\, Los Banos\, CA\, 93635\, United States
ORGANIZER;CN="John Brodie":MAILTO:john.brodie@sldmwa.org
GEO:37.0610781;-120.847641
X-APPLE-STRUCTURED-LOCATION;VALUE=URI;X-ADDRESS=San Luis & Delta-Mendota Water Authority – Los Banos Office 842 6th St Los Banos CA Los Banos CA 93635 United States;X-APPLE-RADIUS=500;X-TITLE=842 6th St\, Los Banos\, CA:geo:-120.847641,37.0610781
END:VEVENT
BEGIN:VEVENT
DTSTART;TZID=America/Los_Angeles:20241023T130000
DTEND;TZID=America/Los_Angeles:20241023T140000
DTSTAMP:20260424T063637
CREATED:20241018T220403Z
LAST-MODIFIED:20241018T220403Z
UID:10000555-1729688400-1729692000@deltamendota.org
SUMMARY:Special Meeting: Northern Delta-Mendota Region Management Committee
DESCRIPTION:102324 Meeting Materials
URL:https://deltamendota.org/event/special-meeting-northern-delta-mendota-region-management-committee-10/
LOCATION:Patterson city Hall and Patterson Irrigation District
ORGANIZER;CN="John Brodie":MAILTO:john.brodie@sldmwa.org
END:VEVENT
BEGIN:VEVENT
DTSTART;TZID=America/Los_Angeles:20241014T130000
DTEND;TZID=America/Los_Angeles:20241014T163000
DTSTAMP:20260424T063637
CREATED:20241011T180029Z
LAST-MODIFIED:20241011T180029Z
UID:10000554-1728910800-1728923400@deltamendota.org
SUMMARY:Regular Meeting: Delta-Mendota Subbasin Coordination Committee
DESCRIPTION:101424 CC Meeting agenda-final
URL:https://deltamendota.org/event/regular-meeting-delta-mendota-subbasin-coordination-committee-6/
LOCATION:San Luis & Delta-Mendota Water Authority – Los Banos Office\, 842 6th St\, Los Banos\, CA\, Los Banos\, CA\, 93635\, United States
ORGANIZER;CN="John Brodie":MAILTO:john.brodie@sldmwa.org
GEO:37.0610781;-120.847641
X-APPLE-STRUCTURED-LOCATION;VALUE=URI;X-ADDRESS=San Luis & Delta-Mendota Water Authority – Los Banos Office 842 6th St Los Banos CA Los Banos CA 93635 United States;X-APPLE-RADIUS=500;X-TITLE=842 6th St\, Los Banos\, CA:geo:-120.847641,37.0610781
END:VEVENT
BEGIN:VEVENT
DTSTART;TZID=America/Los_Angeles:20241002T130000
DTEND;TZID=America/Los_Angeles:20241002T150000
DTSTAMP:20260424T063637
CREATED:20240927T165711Z
LAST-MODIFIED:20240927T165711Z
UID:10000553-1727874000-1727881200@deltamendota.org
SUMMARY:Regular Meeting: Northern Delta-Mendota Region Management Committee
DESCRIPTION:100224 NMC mtg agenda-final
URL:https://deltamendota.org/event/regular-meeting-northern-delta-mendota-region-management-committee-7/
LOCATION:Patterson City Hall\, 1 Plaza Circle\, Patterson\, CA\, 95363\, United States
ORGANIZER;CN="John Brodie":MAILTO:john.brodie@sldmwa.org
END:VEVENT
BEGIN:VEVENT
DTSTART;TZID=America/Los_Angeles:20240926T100000
DTEND;TZID=America/Los_Angeles:20240926T120000
DTSTAMP:20260424T063637
CREATED:20240923T161945Z
LAST-MODIFIED:20240923T161945Z
UID:10000552-1727344800-1727352000@deltamendota.org
SUMMARY:Regular Meeting: Central Delta-Mendota Region Management Committee
DESCRIPTION:092624 CMC Meeting Notice and Agenda-Final
URL:https://deltamendota.org/event/regular-meeting-central-delta-mendota-region-management-committee-3/
LOCATION:San Luis & Delta-Mendota Water Authority – Los Banos Office\, 842 6th St\, Los Banos\, CA\, Los Banos\, CA\, 93635\, United States
ORGANIZER;CN="John Brodie":MAILTO:john.brodie@sldmwa.org
GEO:37.0610781;-120.847641
X-APPLE-STRUCTURED-LOCATION;VALUE=URI;X-ADDRESS=San Luis & Delta-Mendota Water Authority – Los Banos Office 842 6th St Los Banos CA Los Banos CA 93635 United States;X-APPLE-RADIUS=500;X-TITLE=842 6th St\, Los Banos\, CA:geo:-120.847641,37.0610781
END:VEVENT
BEGIN:VEVENT
DTSTART;TZID=America/Los_Angeles:20240909T130000
DTEND;TZID=America/Los_Angeles:20240909T160000
DTSTAMP:20260424T063637
CREATED:20240906T164332Z
LAST-MODIFIED:20240906T164332Z
UID:10000551-1725886800-1725897600@deltamendota.org
SUMMARY:Delta-Mendota Subbasin Coordination Committee
DESCRIPTION:090924 CC Meeting Agenda-Final
URL:https://deltamendota.org/event/delta-mendota-subbasin-coordination-committee-3/
LOCATION:Grassland Water District Office\, 200 W Wilmott Ave\, Los Banos\, CA\, United States
END:VEVENT
BEGIN:VEVENT
DTSTART;TZID=America/Los_Angeles:20240904T130000
DTEND;TZID=America/Los_Angeles:20240904T150000
DTSTAMP:20260424T063637
CREATED:20240829T194440Z
LAST-MODIFIED:20240829T194440Z
UID:10000550-1725454800-1725462000@deltamendota.org
SUMMARY:Regular Meeting: Northern Delta-Mendota Region Management Committee
DESCRIPTION:090424 N mtg agenda-final
URL:https://deltamendota.org/event/regular-meeting-northern-delta-mendota-region-management-committee-6/
LOCATION:Patterson City Hall\, 1 Plaza Circle\, Patterson\, CA\, 95363\, United States
ORGANIZER;CN="John Brodie":MAILTO:john.brodie@sldmwa.org
END:VEVENT
BEGIN:VEVENT
DTSTART;TZID=America/Los_Angeles:20240827T130000
DTEND;TZID=America/Los_Angeles:20240827T150000
DTSTAMP:20260424T063637
CREATED:20240826T151432Z
LAST-MODIFIED:20240826T151432Z
UID:10000549-1724763600-1724770800@deltamendota.org
SUMMARY:Special Meeting: Northern Delta-Mendota Region Management Committee
DESCRIPTION:082724 N mtg agenda-final
URL:https://deltamendota.org/event/special-meeting-northern-delta-mendota-region-management-committee-9/
LOCATION:Patterson City Hall\, 1 Plaza Circle\, Patterson\, CA\, 95363\, United States
ORGANIZER;CN="John Brodie":MAILTO:john.brodie@sldmwa.org
END:VEVENT
BEGIN:VEVENT
DTSTART;TZID=America/Los_Angeles:20240822T100000
DTEND;TZID=America/Los_Angeles:20240822T120000
DTSTAMP:20260424T063637
CREATED:20240819T173401Z
LAST-MODIFIED:20240819T173401Z
UID:10000548-1724320800-1724328000@deltamendota.org
SUMMARY:Special Joint Meeting: Central Delta-Mendota Region Management Committee and Central Delta-Mendota Groundwater Sustainability Agency
DESCRIPTION:082224 CMC CGSA Meeting Notice and Agenda-Final
URL:https://deltamendota.org/event/special-joint-meeting-central-delta-mendota-region-management-committee-and-central-delta-mendota-groundwater-sustainability-agency/
LOCATION:San Luis & Delta-Mendota Water Authority – Los Banos Office\, 842 6th St\, Los Banos\, CA\, Los Banos\, CA\, 93635\, United States
ORGANIZER;CN="John Brodie":MAILTO:john.brodie@sldmwa.org
GEO:37.0610781;-120.847641
X-APPLE-STRUCTURED-LOCATION;VALUE=URI;X-ADDRESS=San Luis & Delta-Mendota Water Authority – Los Banos Office 842 6th St Los Banos CA Los Banos CA 93635 United States;X-APPLE-RADIUS=500;X-TITLE=842 6th St\, Los Banos\, CA:geo:-120.847641,37.0610781
END:VEVENT
BEGIN:VEVENT
DTSTART;TZID=America/Los_Angeles:20240815T120000
DTEND;TZID=America/Los_Angeles:20240815T140000
DTSTAMP:20260424T063637
CREATED:20240814T150136Z
LAST-MODIFIED:20240814T150136Z
UID:10000547-1723723200-1723730400@deltamendota.org
SUMMARY:Special Meeting: Northern Delta-Mendota Region Management Committee
DESCRIPTION:081524 N mtg agenda-final
URL:https://deltamendota.org/event/special-meeting-northern-delta-mendota-region-management-committee-8/
LOCATION:Patterson City Hall\, 1 Plaza Circle\, Patterson\, CA\, 95363\, United States
ORGANIZER;CN="John Brodie":MAILTO:john.brodie@sldmwa.org
END:VEVENT
BEGIN:VEVENT
DTSTART;TZID=America/Los_Angeles:20240812T130000
DTEND;TZID=America/Los_Angeles:20240812T160000
DTSTAMP:20260424T063637
CREATED:20240809T193723Z
LAST-MODIFIED:20240809T193723Z
UID:10000546-1723467600-1723478400@deltamendota.org
SUMMARY:Regular Meeting: Delta-Mendota Subbasin Coordination Committee
DESCRIPTION:081224 CC Meeting Agenda-final
URL:https://deltamendota.org/event/regular-meeting-delta-mendota-subbasin-coordination-committee-5/
LOCATION:San Luis & Delta-Mendota Water Authority – Los Banos Office\, 842 6th St\, Los Banos\, CA\, Los Banos\, CA\, 93635\, United States
ORGANIZER;CN="John Brodie":MAILTO:john.brodie@sldmwa.org
GEO:37.0610781;-120.847641
X-APPLE-STRUCTURED-LOCATION;VALUE=URI;X-ADDRESS=San Luis & Delta-Mendota Water Authority – Los Banos Office 842 6th St Los Banos CA Los Banos CA 93635 United States;X-APPLE-RADIUS=500;X-TITLE=842 6th St\, Los Banos\, CA:geo:-120.847641,37.0610781
END:VEVENT
BEGIN:VEVENT
DTSTART;TZID=America/Los_Angeles:20240807T130000
DTEND;TZID=America/Los_Angeles:20240807T150000
DTSTAMP:20260424T063637
CREATED:20240730T174317Z
LAST-MODIFIED:20240730T174317Z
UID:10000545-1723035600-1723042800@deltamendota.org
SUMMARY:Regular Meeting: Northern Delta-Mendota Region Management Committee
DESCRIPTION:080724 N mtg agenda-final
URL:https://deltamendota.org/event/regular-meeting-northern-delta-mendota-region-management-committee-5/
LOCATION:Patterson City Hall\, 1 Plaza Circle\, Patterson\, CA\, 95363\, United States
ORGANIZER;CN="John Brodie":MAILTO:john.brodie@sldmwa.org
END:VEVENT
BEGIN:VEVENT
DTSTART;TZID=America/Los_Angeles:20240722T130000
DTEND;TZID=America/Los_Angeles:20240722T170000
DTSTAMP:20260424T063637
CREATED:20240719T165441Z
LAST-MODIFIED:20240719T165441Z
UID:10000544-1721653200-1721667600@deltamendota.org
SUMMARY:Special Meeting: Delta-Mendota Subbasin Coordination Committee
DESCRIPTION:072224 CC Meeting Agenda-final
URL:https://deltamendota.org/event/special-meeting-delta-mendota-subbasin-coordination-committee-8/
LOCATION:Grassland Water District Office\, 200 W Wilmott Ave\, Los Banos\, CA\, United States
ORGANIZER;CN="John Brodie":MAILTO:john.brodie@sldmwa.org
END:VEVENT
BEGIN:VEVENT
DTSTART;TZID=America/Los_Angeles:20240722T100000
DTEND;TZID=America/Los_Angeles:20240722T120000
DTSTAMP:20260424T063637
CREATED:20240718T170147Z
LAST-MODIFIED:20240718T170147Z
UID:10000543-1721642400-1721649600@deltamendota.org
SUMMARY:Special Joint Meeting: Central Delta-Mendota Region Management Committee and Central Delta-Mendota Region GSA JPA
DESCRIPTION:072224 CMCCGSA Special Meeting Notice and Agenda-Final
URL:https://deltamendota.org/event/special-joint-meeting-central-delta-mendota-region-management-committee-and-central-delta-mendota-region-gsa-jpa/
LOCATION:Santa Nella County Water District\, 12931 S Hwy 33\, Santa Nella\, CA\, 95322\, United States
ORGANIZER;CN="John Brodie":MAILTO:john.brodie@sldmwa.org
END:VEVENT
BEGIN:VEVENT
DTSTART;TZID=America/Los_Angeles:20240711T150000
DTEND;TZID=America/Los_Angeles:20240711T163000
DTSTAMP:20260424T063637
CREATED:20240710T204345Z
LAST-MODIFIED:20240710T204345Z
UID:10000542-1720710000-1720715400@deltamendota.org
SUMMARY:Special Meeting: Northern Delta-Mendota Region Management Committee
DESCRIPTION:071124 NMC agenda-final
URL:https://deltamendota.org/event/special-meeting-northern-delta-mendota-region-management-committee-7/
LOCATION:Patterson City Hall\, 1 Plaza Circle\, Patterson\, CA\, 95363\, United States
ORGANIZER;CN="John Brodie":MAILTO:john.brodie@sldmwa.org
END:VEVENT
BEGIN:VEVENT
DTSTART;TZID=America/Los_Angeles:20240708T130000
DTEND;TZID=America/Los_Angeles:20240708T163000
DTSTAMP:20260424T063637
CREATED:20240705T174718Z
LAST-MODIFIED:20240705T174718Z
UID:10000541-1720443600-1720456200@deltamendota.org
SUMMARY:Meeting: Delta-Mendota Subbasin Coordination Committee
DESCRIPTION:070824 CC Meeting Agenda-final
URL:https://deltamendota.org/event/meeting-delta-mendota-subbasin-coordination-committee-3/
LOCATION:Grassland Water District Office\, 200 W Wilmott Ave\, Los Banos\, CA\, United States
ORGANIZER;CN="John Brodie":MAILTO:john.brodie@sldmwa.org
END:VEVENT
BEGIN:VEVENT
DTSTART;TZID=America/Los_Angeles:20240703T130000
DTEND;TZID=America/Los_Angeles:20240703T150000
DTSTAMP:20260424T063637
CREATED:20240628T195521Z
LAST-MODIFIED:20240628T195521Z
UID:10000540-1720011600-1720018800@deltamendota.org
SUMMARY:Regular Meeting: Northern Delta-Mendota Region Management Committee
DESCRIPTION:070324 NMC agenda-final
URL:https://deltamendota.org/event/regular-meeting-northern-delta-mendota-region-management-committee-4/
LOCATION:Patterson City Hall\, 1 Plaza Circle\, Patterson\, CA\, 95363\, United States
ORGANIZER;CN="John Brodie":MAILTO:john.brodie@sldmwa.org
END:VEVENT
BEGIN:VEVENT
DTSTART;TZID=America/Los_Angeles:20240627T100000
DTEND;TZID=America/Los_Angeles:20240627T120000
DTSTAMP:20260424T063637
CREATED:20240625T001746Z
LAST-MODIFIED:20240625T054353Z
UID:10000539-1719482400-1719489600@deltamendota.org
SUMMARY:Meeting of the Central Delta‐Mendota Region Management Committee
DESCRIPTION:Agenda
URL:https://deltamendota.org/event/meeting-of-the-central-delta%e2%80%90mendota-region-management-committee/
LOCATION:San Luis & Delta-Mendota Water Authority – Los Banos Office\, 842 6th St\, Los Banos\, CA\, Los Banos\, CA\, 93635\, United States
CATEGORIES:Upcoming Central Delta-Mendota GSA Meeting Materials
GEO:37.0610781;-120.847641
X-APPLE-STRUCTURED-LOCATION;VALUE=URI;X-ADDRESS=San Luis & Delta-Mendota Water Authority – Los Banos Office 842 6th St Los Banos CA Los Banos CA 93635 United States;X-APPLE-RADIUS=500;X-TITLE=842 6th St\, Los Banos\, CA:geo:-120.847641,37.0610781
END:VEVENT
BEGIN:VEVENT
DTSTART;TZID=America/Los_Angeles:20240624T130000
DTEND;TZID=America/Los_Angeles:20240624T143000
DTSTAMP:20260424T063637
CREATED:20240621T222821Z
LAST-MODIFIED:20240621T222821Z
UID:10000538-1719234000-1719239400@deltamendota.org
SUMMARY:Special Joint Meeting of the Delta‐Mendota Subbasin Coordination Committee And Technical Working Group
DESCRIPTION:Agenda
URL:https://deltamendota.org/event/special-joint-meeting-of-the-delta%e2%80%90mendota-subbasin-coordination-committee-and-technical-working-group/
LOCATION:San Luis & Delta-Mendota Water Authority – Los Banos Office\, 842 6th St\, Los Banos\, CA\, Los Banos\, CA\, 93635\, United States
CATEGORIES:Delta-Mendota Subbasin Coordination Committee,Delta-Mendota Subbasin Technical Working Group
GEO:37.0610781;-120.847641
X-APPLE-STRUCTURED-LOCATION;VALUE=URI;X-ADDRESS=San Luis & Delta-Mendota Water Authority – Los Banos Office 842 6th St Los Banos CA Los Banos CA 93635 United States;X-APPLE-RADIUS=500;X-TITLE=842 6th St\, Los Banos\, CA:geo:-120.847641,37.0610781
END:VEVENT
BEGIN:VEVENT
DTSTART;TZID=America/Los_Angeles:20240610T080000
DTEND;TZID=America/Los_Angeles:20240610T170000
DTSTAMP:20260424T063637
CREATED:20240610T141412Z
LAST-MODIFIED:20240610T141412Z
UID:10000537-1718006400-1718038800@deltamendota.org
SUMMARY:Test Event
DESCRIPTION:Test Only
URL:https://deltamendota.org/event/test-event/
LOCATION:CA
END:VEVENT
BEGIN:VEVENT
DTSTART;TZID=America/Los_Angeles:20240605T130000
DTEND;TZID=America/Los_Angeles:20240605T150000
DTSTAMP:20260424T063637
CREATED:20240531T162942Z
LAST-MODIFIED:20240610T141355Z
UID:10000429-1717592400-1717599600@deltamendota.org
SUMMARY:Meeting: Northern Delta Region Management Committee
DESCRIPTION:060524 NMC agenda-final
URL:https://deltamendota.org/event/meeting-northern-delta-region-management-committee/
LOCATION:Patterson City Hall\, 1 Plaza Circle\, Patterson\, CA\, 95363\, United States
ORGANIZER;CN="John Brodie":MAILTO:john.brodie@sldmwa.org
END:VEVENT
BEGIN:VEVENT
DTSTART;TZID=America/Los_Angeles:20240530T100000
DTEND;TZID=America/Los_Angeles:20240530T120000
DTSTAMP:20260424T063637
CREATED:20240522T225445Z
LAST-MODIFIED:20240522T225445Z
UID:10000428-1717063200-1717070400@deltamendota.org
SUMMARY:Central Delta-Mendota Region Management Committee
DESCRIPTION:053024 CMC Meeting Notice and Agenda-Final
URL:https://deltamendota.org/event/central-delta-mendota-region-management-committee/
LOCATION:San Luis & Delta-Mendota Water Authority – Los Banos Office\, 842 6th St\, Los Banos\, CA\, Los Banos\, CA\, 93635\, United States
ORGANIZER;CN="John Brodie":MAILTO:john.brodie@sldmwa.org
GEO:37.0610781;-120.847641
X-APPLE-STRUCTURED-LOCATION;VALUE=URI;X-ADDRESS=San Luis & Delta-Mendota Water Authority – Los Banos Office 842 6th St Los Banos CA Los Banos CA 93635 United States;X-APPLE-RADIUS=500;X-TITLE=842 6th St\, Los Banos\, CA:geo:-120.847641,37.0610781
END:VEVENT
END:VCALENDAR