BEGIN:VCALENDAR
VERSION:2.0
PRODID:-//Delta-Mendota SGMA - ECPv6.13.2.1//NONSGML v1.0//EN
CALSCALE:GREGORIAN
METHOD:PUBLISH
X-ORIGINAL-URL:https://deltamendota.org
X-WR-CALDESC:Events for Delta-Mendota SGMA
REFRESH-INTERVAL;VALUE=DURATION:PT1H
X-Robots-Tag:noindex
X-PUBLISHED-TTL:PT1H
BEGIN:VTIMEZONE
TZID:America/Los_Angeles
BEGIN:DAYLIGHT
TZOFFSETFROM:-0800
TZOFFSETTO:-0700
TZNAME:PDT
DTSTART:20250309T100000
END:DAYLIGHT
BEGIN:STANDARD
TZOFFSETFROM:-0700
TZOFFSETTO:-0800
TZNAME:PST
DTSTART:20251102T090000
END:STANDARD
BEGIN:DAYLIGHT
TZOFFSETFROM:-0800
TZOFFSETTO:-0700
TZNAME:PDT
DTSTART:20260308T100000
END:DAYLIGHT
BEGIN:STANDARD
TZOFFSETFROM:-0700
TZOFFSETTO:-0800
TZNAME:PST
DTSTART:20261101T090000
END:STANDARD
END:VTIMEZONE
BEGIN:VEVENT
DTSTART;TZID=America/Los_Angeles:20260423T100000
DTEND;TZID=America/Los_Angeles:20260423T120000
DTSTAMP:20260423T221238
CREATED:20260417T221652Z
LAST-MODIFIED:20260422T042407Z
UID:10000614-1776938400-1776945600@deltamendota.org
SUMMARY:Meeting of the Central Delta-Mendota GSA
DESCRIPTION:Meeting of the Central Delta-Mendota Groundwater Sustainability Agency\nThursday\, April 23\, 10:00 a.m. PST\n\nSanta Nella County Water District\n12931 CA-33\, Gustine\, CA 95322\nAgenda \nPacket
URL:https://deltamendota.org/event/meeting-of-the-central-delta-mendota-gsa-2/
LOCATION:Santa Nella County Water District\, 12931 S Hwy 33\, Santa Nella\, CA\, 95322\, United States
CATEGORIES:Central Delta-Mendota GSA
END:VEVENT
BEGIN:VEVENT
DTSTART;TZID=America/Los_Angeles:20260413T130000
DTEND;TZID=America/Los_Angeles:20260413T160000
DTSTAMP:20260423T221238
CREATED:20260409T212937Z
LAST-MODIFIED:20260410T223426Z
UID:10000613-1776085200-1776096000@deltamendota.org
SUMMARY:Joint Meeting of the Delta-Mendota Subbasin GSAs Joint Powers Authority Board of Directors and Coordination Committee
DESCRIPTION:Joint Meeting of the Delta-Mendota Subbasin GSAs Joint Powers Authority Board of Directors and Coordination Committee\n\nMonday\, April 13\, 2026\, 1:00 p.m. PST \n\nGrassland Water District Board Room\n200 W Willmott Ave\, Los Banos\, CA 93635\n\nAgenda\nPacket
URL:https://deltamendota.org/event/joint-meeting-of-the-delta-mendota-subbasin-gsas-joint-powers-authority-board-of-directors-and-coordination-committee/
LOCATION:Grassland Water District Office\, 200 W Wilmott Ave\, Los Banos\, CA\, United States
CATEGORIES:Joint Delta-Mendota Subbasin Authority Board and Coordination Committee
END:VEVENT
BEGIN:VEVENT
DTSTART;TZID=America/Los_Angeles:20260401T080000
DTEND;TZID=America/Los_Angeles:20260401T170000
DTSTAMP:20260423T221238
CREATED:20260326T234001Z
LAST-MODIFIED:20260326T234001Z
UID:10000612-1775030400-1775062800@deltamendota.org
SUMMARY:Cancellation Notice - Meeting of the Northern DM Region Management Committee
DESCRIPTION:Cancellation Notice – Meeting of the Northern DM Region Management Committee \nThe meeting on April 1\, 2026 at 1 p.m. has been cancelled.  \nNotice of Cancellation
URL:https://deltamendota.org/event/cancellation-notice-meeting-of-the-northern-dm-region-management-committee/
LOCATION:Patterson City Hall\, 1 Plaza Circle\, Patterson\, CA\, 95363\, United States
CATEGORIES:Northern Delta-Mendota Region Management Committee
END:VEVENT
BEGIN:VEVENT
DTSTART;TZID=America/Los_Angeles:20260326T100000
DTEND;TZID=America/Los_Angeles:20260326T120000
DTSTAMP:20260423T221238
CREATED:20260320T222322Z
LAST-MODIFIED:20260323T161541Z
UID:10000610-1774519200-1774526400@deltamendota.org
SUMMARY:Meeting of the Central Delta-Mendota GSA
DESCRIPTION:Meeting of the Central Delta-Mendota GSA \nThursday\, March 26\, 2026\, 10 a.m. PST \nSanta Nella Water District \n12931 CA-33\, Gustine\, CA 95322 \nAgenda \nPacket
URL:https://deltamendota.org/event/meeting-of-the-central-delta-mendota-gsa/
LOCATION:Santa Nella County Water District\, 12931 S Hwy 33\, Santa Nella\, CA\, 95322\, United States
CATEGORIES:Central Delta-Mendota GSA
END:VEVENT
BEGIN:VEVENT
DTSTART;TZID=America/Los_Angeles:20260325T130000
DTEND;TZID=America/Los_Angeles:20260325T140000
DTSTAMP:20260423T221238
CREATED:20260323T201502Z
LAST-MODIFIED:20260324T211514Z
UID:10000611-1774443600-1774447200@deltamendota.org
SUMMARY:Special Joint Meeting of the Delta-Mendota Subbasin GSAs JPA Board of Directors and Coordination Committee
DESCRIPTION:Special Joint Meeting of the Delta-Mendota Subbasin GSAs JPA Board of Directors and Coordination Committee\nWednesday\, March 25\, 2026\, 1:00 p.m. PST\n \nGrassland Water District Board Room\n200 W Willmott Ave\, Los Banos\, CA 93635\nPacket
URL:https://deltamendota.org/event/special-joint-meeting-of-the-delta-mendota-subbasin-gsas-jpa-board-of-directors-and-coordination-committee/
LOCATION:Grassland Water District Office\, 200 W Wilmott Ave\, Los Banos\, CA\, United States
CATEGORIES:Joint Delta-Mendota Subbasin Authority Board and Coordination Committee
END:VEVENT
BEGIN:VEVENT
DTSTART;TZID=America/Los_Angeles:20260309T130000
DTEND;TZID=America/Los_Angeles:20260309T150000
DTSTAMP:20260423T221238
CREATED:20260306T050059Z
LAST-MODIFIED:20260306T231424Z
UID:10000609-1773061200-1773068400@deltamendota.org
SUMMARY:Joint Meeting of the Delta-Mendota Subbasin GSAs Joint Powers Authority Board and Coordination Committee
DESCRIPTION:Joint Meeting of the Delta-Mendota Subbasin GSAs Joint Powers Authority Board of Directors and Coordination Committee\nMonday\, March 9\, 2026\, 1:00 p.m. PST \nGrassland Water District Board Room\n200 W Willmott Ave\, Los Banos\, CA 93635 \nMeeting Packet Version 2.
URL:https://deltamendota.org/event/joint-meeting-of-the-delta-mendota-subbasin-gsas-joint-powers-authority-board-and-coordination-committee/
LOCATION:Grassland Water District Office\, 200 W Wilmott Ave\, Los Banos\, CA\, United States
CATEGORIES:Joint Delta-Mendota Subbasin Authority Board and Coordination Committee
END:VEVENT
BEGIN:VEVENT
DTSTART;TZID=America/Los_Angeles:20260304T130000
DTEND;TZID=America/Los_Angeles:20260304T150000
DTSTAMP:20260423T221238
CREATED:20260228T010357Z
LAST-MODIFIED:20260228T010357Z
UID:10000608-1772629200-1772636400@deltamendota.org
SUMMARY:Meeting of the Northern Delta-Mendota Subbasin Region Management Committee
DESCRIPTION:Meeting of the Northern Delta-Mendota Subbasin Region Management Committee \nWednesday\, March 4\, 2026\, 1:00 p.m. PST \nPatterson City Council Chambers\, 1 Plaza Circle\, Patterson\, CA 95363 \nMeeting Packet 
URL:https://deltamendota.org/event/meeting-of-the-northern-delta-mendota-subbasin-region-management-committee/
LOCATION:Patterson City Hall\, 1 Plaza Circle\, Patterson\, CA\, 95363\, United States
CATEGORIES:Northern Delta-Mendota Region Management Committee
END:VEVENT
BEGIN:VEVENT
DTSTART;TZID=America/Los_Angeles:20260209T130000
DTEND;TZID=America/Los_Angeles:20260209T150000
DTSTAMP:20260423T221238
CREATED:20260206T202747Z
LAST-MODIFIED:20260206T203123Z
UID:10000607-1770642000-1770649200@deltamendota.org
SUMMARY:Joint Meeting of the Delta-Mendota Subbasin Authority Board and Coordination Committee
DESCRIPTION:Joint Meeting of the Delta-Mendota Subbasin Authority Board and Coordination Committee \nMonday\, February 9\, 2026\, 1:00 p.m. PST \nSLDMWA Board Room 842 6th St.\, Los Banos\, CA 93635 \nPacket 
URL:https://deltamendota.org/event/joint-meeting-of-the-delta-mendota-subbasin-authority-board-and-coordination-committee/
LOCATION:San Luis & Delta-Mendota Water Authority – Los Banos Office\, 842 6th St\, Los Banos\, CA\, Los Banos\, CA\, 93635\, United States
CATEGORIES:Joint Delta-Mendota Subbasin Authority Board and Coordination Committee
GEO:37.0610781;-120.847641
X-APPLE-STRUCTURED-LOCATION;VALUE=URI;X-ADDRESS=San Luis & Delta-Mendota Water Authority – Los Banos Office 842 6th St Los Banos CA Los Banos CA 93635 United States;X-APPLE-RADIUS=500;X-TITLE=842 6th St\, Los Banos\, CA:geo:-120.847641,37.0610781
END:VEVENT
BEGIN:VEVENT
DTSTART;TZID=America/Los_Angeles:20260204T130000
DTEND;TZID=America/Los_Angeles:20260204T170000
DTSTAMP:20260423T221238
CREATED:20260203T185044Z
LAST-MODIFIED:20260203T185044Z
UID:10000606-1770210000-1770224400@deltamendota.org
SUMMARY:Special Joint Meeting of the Board of Directors of the Delta-Mendota Subbasin GSAs Joint Powers Authority and the Coordination Committee
DESCRIPTION:Special Joint Meeting of the Board of Directors of the Delta-Mendota Subbasin GSAs Joint Powers Authority and the Coordination Committee \nWednesday\, February 4\, 2026\, 1:00 p.m. PST \nSLDMWA Board Room 842 6th St.\, Los Banos\, CA 93635 \nAgenda \nPacket  \n 
URL:https://deltamendota.org/event/special-joint-meeting-of-the-board-of-directors-of-the-delta-mendota-subbasin-gsas-joint-powers-authority-and-the-coordination-committee/
LOCATION:San Luis & Delta-Mendota Water Authority – Los Banos Office\, 842 6th St\, Los Banos\, CA\, Los Banos\, CA\, 93635\, United States
CATEGORIES:Joint Delta-Mendota Subbasin Authority Board and Coordination Committee
GEO:37.0610781;-120.847641
X-APPLE-STRUCTURED-LOCATION;VALUE=URI;X-ADDRESS=San Luis & Delta-Mendota Water Authority – Los Banos Office 842 6th St Los Banos CA Los Banos CA 93635 United States;X-APPLE-RADIUS=500;X-TITLE=842 6th St\, Los Banos\, CA:geo:-120.847641,37.0610781
END:VEVENT
BEGIN:VEVENT
DTSTART;TZID=America/Los_Angeles:20260122T100000
DTEND;TZID=America/Los_Angeles:20260122T170000
DTSTAMP:20260423T221238
CREATED:20260119T175247Z
LAST-MODIFIED:20260119T175247Z
UID:10000605-1769076000-1769101200@deltamendota.org
SUMMARY:Special Joint Meeting of the Central Delta-Mendota Region Management Committee and Central Delta-Mendota GSA
DESCRIPTION:Agenda
URL:https://deltamendota.org/event/special-joint-meeting-of-the-central-delta-mendota-region-management-committee-and-central-delta-mendota-gsa-4/
LOCATION:San Luis & Delta-Mendota Water Authority – Los Banos Office\, 842 6th St\, Los Banos\, CA\, Los Banos\, CA\, 93635\, United States
GEO:37.0610781;-120.847641
X-APPLE-STRUCTURED-LOCATION;VALUE=URI;X-ADDRESS=San Luis & Delta-Mendota Water Authority – Los Banos Office 842 6th St Los Banos CA Los Banos CA 93635 United States;X-APPLE-RADIUS=500;X-TITLE=842 6th St\, Los Banos\, CA:geo:-120.847641,37.0610781
END:VEVENT
BEGIN:VEVENT
DTSTART;TZID=America/Los_Angeles:20260112T130000
DTEND;TZID=America/Los_Angeles:20260112T150000
DTSTAMP:20260423T221238
CREATED:20260107T193213Z
LAST-MODIFIED:20260108T234716Z
UID:10000604-1768222800-1768230000@deltamendota.org
SUMMARY:Meeting of the Delta-Mendota Subbasin Coordination Committee
DESCRIPTION:Meeting of the Delta-Mendota Subbasin Coordination Committee \nMonday\, January 12\, 2026\, 1 p.m. PST \nSLDMWA Board Room 842 6th St.\, Los Banos\, CA 93635 \nAgenda  \nPacket
URL:https://deltamendota.org/event/meeting-of-the-delta-mendota-subbasin-coordination-committee-8/
LOCATION:San Luis & Delta-Mendota Water Authority – Los Banos Office\, 842 6th St\, Los Banos\, CA\, Los Banos\, CA\, 93635\, United States
CATEGORIES:Delta-Mendota Subbasin Coordination Committee
GEO:37.0610781;-120.847641
X-APPLE-STRUCTURED-LOCATION;VALUE=URI;X-ADDRESS=San Luis & Delta-Mendota Water Authority – Los Banos Office 842 6th St Los Banos CA Los Banos CA 93635 United States;X-APPLE-RADIUS=500;X-TITLE=842 6th St\, Los Banos\, CA:geo:-120.847641,37.0610781
END:VEVENT
BEGIN:VEVENT
DTSTART;TZID=America/Los_Angeles:20260107T130000
DTEND;TZID=America/Los_Angeles:20260107T150000
DTSTAMP:20260423T221238
CREATED:20260102T195150Z
LAST-MODIFIED:20260105T224956Z
UID:10000603-1767790800-1767798000@deltamendota.org
SUMMARY:Meeting of the Northern Delta-Mendota Region Management Committee
DESCRIPTION:Meeting of the Northern Delta-Mendota Region Management Committee \nWednesday\, January 7\, 2026\, 1 p.m. PST \n1 Plaza Circle\, Patterson\, CA 95363 \nPacket 
URL:https://deltamendota.org/event/meeting-of-the-northern-delta-mendota-region-management-committee-4/
LOCATION:Patterson City Council Chambers\, 1 Patterson Circle\, Patterson\, 95363\, United States
CATEGORIES:Northern Delta-Mendota Region Management Committee
END:VEVENT
BEGIN:VEVENT
DTSTART;TZID=America/Los_Angeles:20251218T100000
DTEND;TZID=America/Los_Angeles:20251218T170000
DTSTAMP:20260423T221238
CREATED:20251215T165639Z
LAST-MODIFIED:20251217T212740Z
UID:10000602-1766052000-1766077200@deltamendota.org
SUMMARY:Special Joint Meeting of the Central Delta-Mendota Region Management Committee and Central Delta-Mendota GSA
DESCRIPTION:Agenda \nPacket
URL:https://deltamendota.org/event/special-joint-meeting-of-the-central-delta-mendota-region-management-committee-and-central-delta-mendota-gsa-3/
LOCATION:Santa Nella County Water District\, 12931 S Hwy 33\, Santa Nella\, CA\, 95322\, United States
END:VEVENT
BEGIN:VEVENT
DTSTART;TZID=America/Los_Angeles:20251210T130000
DTEND;TZID=America/Los_Angeles:20251210T150000
DTSTAMP:20260423T221238
CREATED:20251206T010505Z
LAST-MODIFIED:20251206T010505Z
UID:10000601-1765371600-1765378800@deltamendota.org
SUMMARY:Meeting of the Northern Delta-Mendota Region Management Committee
DESCRIPTION:Meeting of the Northern Delta-Mendota Region Management Committee \nWednesday\, December 10\, 2025\, 1:00 p.m. PST \n1 Plaza Circle\, Patterson\, CA \nPacket  \n 
URL:https://deltamendota.org/event/meeting-of-the-northern-delta-mendota-region-management-committee-3/
LOCATION:Patterson City Council Chambers\, 1 Patterson Circle\, Patterson\, 95363\, United States
CATEGORIES:Northern Delta-Mendota Region Management Committee
END:VEVENT
BEGIN:VEVENT
DTSTART;TZID=America/Los_Angeles:20251203T080000
DTEND;TZID=America/Los_Angeles:20251203T170000
DTSTAMP:20260423T221238
CREATED:20251204T000441Z
LAST-MODIFIED:20251205T053052Z
UID:10000600-1764748800-1764781200@deltamendota.org
SUMMARY:Meeting of the Delta-Mendota Subbasin Coordination Committee
DESCRIPTION:Meeting of the Delta-Mendota Subbasin Coordination Committee \nMonday\, December 8\, 2025\, 1:00 p.m. PST \nGrassland Water District Boardroom \n200 W. Willmott Avenue\, Los Banos\, CA  93635 \nAgenda \nPacket
URL:https://deltamendota.org/event/meeting-of-the-delta-mendota-subbasin-coordination-committee-7/
LOCATION:San Luis & Delta-Mendota Water Authority – Los Banos Office\, 842 6th St\, Los Banos\, CA\, Los Banos\, CA\, 93635\, United States
CATEGORIES:Delta-Mendota Subbasin Coordination Committee
GEO:37.0610781;-120.847641
X-APPLE-STRUCTURED-LOCATION;VALUE=URI;X-ADDRESS=San Luis & Delta-Mendota Water Authority – Los Banos Office 842 6th St Los Banos CA Los Banos CA 93635 United States;X-APPLE-RADIUS=500;X-TITLE=842 6th St\, Los Banos\, CA:geo:-120.847641,37.0610781
END:VEVENT
BEGIN:VEVENT
DTSTART;TZID=America/Los_Angeles:20251120T100000
DTEND;TZID=America/Los_Angeles:20251120T170000
DTSTAMP:20260423T221238
CREATED:20251117T171500Z
LAST-MODIFIED:20251117T171500Z
UID:10000599-1763632800-1763658000@deltamendota.org
SUMMARY:Special Joint Meeting of the Central Delta-Mendota Region Management Committee and Central Delta-Mendota GSA
DESCRIPTION:Agenda
URL:https://deltamendota.org/event/special-joint-meeting-of-the-central-delta-mendota-region-management-committee-and-central-delta-mendota-gsa-2/
LOCATION:Santa Nella County Water District\, 12931 S Hwy 33\, Santa Nella\, CA\, 95322\, United States
END:VEVENT
BEGIN:VEVENT
DTSTART;TZID=America/Los_Angeles:20251110T130000
DTEND;TZID=America/Los_Angeles:20251110T160000
DTSTAMP:20260423T221238
CREATED:20251107T163309Z
LAST-MODIFIED:20251107T163309Z
UID:10000598-1762779600-1762790400@deltamendota.org
SUMMARY:Meeting of the Delta-Mendota Subbasin Coordination Committee
DESCRIPTION:Meeting of the Delta-Mendota Subbasin Coordination Committee \nMonday\, November 10\, 2025\, 1 p.m. PST. \nSLDMWA Board Room 842 6th St.\, Los Banos\, CA 93635 \nAgenda  \nPacket
URL:https://deltamendota.org/event/meeting-of-the-delta-mendota-subbasin-coordination-committee-6/
LOCATION:San Luis & Delta-Mendota Water Authority – Los Banos Office\, 842 6th St\, Los Banos\, CA\, Los Banos\, CA\, 93635\, United States
GEO:37.0610781;-120.847641
X-APPLE-STRUCTURED-LOCATION;VALUE=URI;X-ADDRESS=San Luis & Delta-Mendota Water Authority – Los Banos Office 842 6th St Los Banos CA Los Banos CA 93635 United States;X-APPLE-RADIUS=500;X-TITLE=842 6th St\, Los Banos\, CA:geo:-120.847641,37.0610781
END:VEVENT
BEGIN:VEVENT
DTSTART;TZID=America/Los_Angeles:20251105T130000
DTEND;TZID=America/Los_Angeles:20251105T150000
DTSTAMP:20260423T221238
CREATED:20251031T231150Z
LAST-MODIFIED:20251103T234227Z
UID:10000597-1762347600-1762354800@deltamendota.org
SUMMARY:Northern Delta-Mendota Region Management Committee Meeting
DESCRIPTION:Northern Delta-Mendota Region Management Committee Meeting \nWednesday\, November 5th\, 2025\, 1 p.m. PST \nPatterson City Council Chambers\, 1 Plaza Circle\, Patterson\, CA 95363 \nAgenda \nPacket
URL:https://deltamendota.org/event/northern-delta-mendota-region-management-committee-meeting-4/
LOCATION:Patterson City Council Chambers\, 1 Patterson Circle\, Patterson\, 95363\, United States
CATEGORIES:Northern Delta-Mendota Region Management Committee
END:VEVENT
BEGIN:VEVENT
DTSTART;TZID=America/Los_Angeles:20251023T100000
DTEND;TZID=America/Los_Angeles:20251023T170000
DTSTAMP:20260423T221238
CREATED:20251017T224348Z
LAST-MODIFIED:20251021T183147Z
UID:10000596-1761213600-1761238800@deltamendota.org
SUMMARY:Special Joint Meeting of the Central Delta-Mendota Region Management Committee and GSA
DESCRIPTION:Agenda \nPacket
URL:https://deltamendota.org/event/special-joint-meeting-of-the-central-delta-mendota-region-management-committee-and-gsa-2/
LOCATION:San Luis & Delta-Mendota Water Authority – Los Banos Office\, 842 6th St\, Los Banos\, CA\, Los Banos\, CA\, 93635\, United States
GEO:37.0610781;-120.847641
X-APPLE-STRUCTURED-LOCATION;VALUE=URI;X-ADDRESS=San Luis & Delta-Mendota Water Authority – Los Banos Office 842 6th St Los Banos CA Los Banos CA 93635 United States;X-APPLE-RADIUS=500;X-TITLE=842 6th St\, Los Banos\, CA:geo:-120.847641,37.0610781
END:VEVENT
BEGIN:VEVENT
DTSTART;TZID=America/Los_Angeles:20251013T130000
DTEND;TZID=America/Los_Angeles:20251013T150000
DTSTAMP:20260423T221238
CREATED:20251008T224016Z
LAST-MODIFIED:20251010T211353Z
UID:10000595-1760360400-1760367600@deltamendota.org
SUMMARY:Delta-Mendota Subbasin Coordination Committee Meeting - October 13\, 2025
DESCRIPTION:Delta-Mendota Subbasin Coordination Committee Meeting \nMonday\, October 13\, 2025\, 1 p.m. PST \nSLDMWA Board Room 842 6th St.\, Los Banos\, CA 93635 \nAgenda \nMeeting Packet 
URL:https://deltamendota.org/event/delta-mendota-subbasin-coordination-committee-meeting-october-13-2025/
LOCATION:San Luis & Delta-Mendota Water Authority – Los Banos Office\, 842 6th St\, Los Banos\, CA\, Los Banos\, CA\, 93635\, United States
CATEGORIES:Delta-Mendota Subbasin Coordination Committee
GEO:37.0610781;-120.847641
X-APPLE-STRUCTURED-LOCATION;VALUE=URI;X-ADDRESS=San Luis & Delta-Mendota Water Authority – Los Banos Office 842 6th St Los Banos CA Los Banos CA 93635 United States;X-APPLE-RADIUS=500;X-TITLE=842 6th St\, Los Banos\, CA:geo:-120.847641,37.0610781
END:VEVENT
BEGIN:VEVENT
DTSTART;TZID=America/Los_Angeles:20251001T130000
DTEND;TZID=America/Los_Angeles:20251001T150000
DTSTAMP:20260423T221238
CREATED:20250926T172055Z
LAST-MODIFIED:20250929T224747Z
UID:10000594-1759323600-1759330800@deltamendota.org
SUMMARY:Northern Delta-Mendota Region Management Committee Meeting
DESCRIPTION:Wednesday\, October 1\, 2025\, 1pm PST  \nPatterson City Council Chambers\, 1 Plaza Circle\, Patterson\, CA  \nAgenda \nMeeting Packet
URL:https://deltamendota.org/event/northern-delta-mendota-region-management-committee-meeting-3/
LOCATION:Patterson City Council Chambers\, 1 Patterson Circle\, Patterson\, 95363\, United States
CATEGORIES:Northern Delta-Mendota Region Management Committee
END:VEVENT
BEGIN:VEVENT
DTSTART;TZID=America/Los_Angeles:20250925T100000
DTEND;TZID=America/Los_Angeles:20250925T120000
DTSTAMP:20260423T221238
CREATED:20250919T204014Z
LAST-MODIFIED:20250919T204014Z
UID:10000593-1758794400-1758801600@deltamendota.org
SUMMARY:Special Joint Meeting of Central Delta-Mendota Region Management Committee and Central Delta-Mendota GSA
DESCRIPTION:Agenda
URL:https://deltamendota.org/event/special-joint-meeting-of-central-delta-mendota-region-management-committee-and-central-delta-mendota-gsa/
LOCATION:San Luis & Delta-Mendota Water Authority – Los Banos Office\, 842 6th St\, Los Banos\, CA\, Los Banos\, CA\, 93635\, United States
GEO:37.0610781;-120.847641
X-APPLE-STRUCTURED-LOCATION;VALUE=URI;X-ADDRESS=San Luis & Delta-Mendota Water Authority – Los Banos Office 842 6th St Los Banos CA Los Banos CA 93635 United States;X-APPLE-RADIUS=500;X-TITLE=842 6th St\, Los Banos\, CA:geo:-120.847641,37.0610781
END:VEVENT
BEGIN:VEVENT
DTSTART;TZID=America/Los_Angeles:20250908T130000
DTEND;TZID=America/Los_Angeles:20250908T170000
DTSTAMP:20260423T221238
CREATED:20250905T232123Z
LAST-MODIFIED:20250905T232333Z
UID:10000592-1757336400-1757350800@deltamendota.org
SUMMARY:Meeting of the Delta-Mendota Subbasin Coordination Committee
DESCRIPTION:A meeting of the Delta-Mendota Subbasin Coordination Committee has been called for Monday\, September 8\, 2025 at 1:00 PM\, on items listed on the\naccompanying agenda. \n  \nPacket
URL:https://deltamendota.org/event/meeting-of-the-delta-mendota-subbasin-coordination-committee-5/
LOCATION:Grassland Water District Office\, 200 W Wilmott Ave\, Los Banos\, CA\, United States
CATEGORIES:Delta-Mendota Subbasin Coordination Committee
END:VEVENT
BEGIN:VEVENT
DTSTART;TZID=America/Los_Angeles:20250903T130000
DTEND;TZID=America/Los_Angeles:20250903T170000
DTSTAMP:20260423T221238
CREATED:20250828T222514Z
LAST-MODIFIED:20250828T222514Z
UID:10000591-1756904400-1756918800@deltamendota.org
SUMMARY:Meeting of the Northern Delta-Mendota Region Management Committee
DESCRIPTION:A meeting of the Northern Delta-Mendota Region Management Committee has been called for Wednesday\, September 3\, 1:00 PM\, on items listed on the accompanying agenda. \nAgenda
URL:https://deltamendota.org/event/meeting-of-the-northern-delta-mendota-region-management-committee-2/
LOCATION:Patterson City Hall\, 1 Plaza Circle\, Patterson\, CA\, 95363\, United States
CATEGORIES:Northern Delta-Mendota Region Management Committee
END:VEVENT
BEGIN:VEVENT
DTSTART;TZID=America/Los_Angeles:20250811T130000
DTEND;TZID=America/Los_Angeles:20250811T170000
DTSTAMP:20260423T221238
CREATED:20250808T233832Z
LAST-MODIFIED:20250808T234352Z
UID:10000590-1754917200-1754931600@deltamendota.org
SUMMARY:Delta-Mendota Subbasin Coordination Committee Meeting
DESCRIPTION:A Meeting of the Delta-Mendota Subbasin Coordination Committee has been called for Monday\, August 11\, 2025 at 1:00 PM\, on items listed on the accompanying agenda. \nMeeting Materials Packet
URL:https://deltamendota.org/event/8384/
LOCATION:San Luis & Delta-Mendota Water Authority – Los Banos Office\, 842 6th St\, Los Banos\, CA\, Los Banos\, CA\, 93635\, United States
CATEGORIES:Delta-Mendota Subbasin Coordination Committee
GEO:37.0610781;-120.847641
X-APPLE-STRUCTURED-LOCATION;VALUE=URI;X-ADDRESS=San Luis & Delta-Mendota Water Authority – Los Banos Office 842 6th St Los Banos CA Los Banos CA 93635 United States;X-APPLE-RADIUS=500;X-TITLE=842 6th St\, Los Banos\, CA:geo:-120.847641,37.0610781
END:VEVENT
BEGIN:VEVENT
DTSTART;TZID=America/Los_Angeles:20250806T130000
DTEND;TZID=America/Los_Angeles:20250806T170000
DTSTAMP:20260423T221238
CREATED:20250801T163157Z
LAST-MODIFIED:20250804T183422Z
UID:10000589-1754485200-1754499600@deltamendota.org
SUMMARY:Northern Delta-Mendota Region Management Committee
DESCRIPTION:A meeting of the Northern Delta-Mendota Region Management Committee has been called for Wednesday\, August 6\, 2025\, 1:00 PM\, on items listed on the accompanying agenda. \nAgenda
URL:https://deltamendota.org/event/northern-delta-mendota-region-management-committee-4/
LOCATION:Patterson City Hall\, 1 Plaza Circle\, Patterson\, CA\, 95363\, United States
CATEGORIES:Northern Delta-Mendota Region Management Committee
END:VEVENT
BEGIN:VEVENT
DTSTART;TZID=America/Los_Angeles:20250724T100000
DTEND;TZID=America/Los_Angeles:20250724T170000
DTSTAMP:20260423T221238
CREATED:20250717T165728Z
LAST-MODIFIED:20250717T165728Z
UID:10000588-1753351200-1753376400@deltamendota.org
SUMMARY:Special Joint Meeting of the Central Delta-Mendota Region Management Committee and Central Delta-Mendota GSA
DESCRIPTION:Meeting Agenda and Materials
URL:https://deltamendota.org/event/special-joint-meeting-of-the-central-delta-mendota-region-management-committee-and-central-delta-mendota-gsa/
LOCATION:San Luis & Delta-Mendota Water Authority – Los Banos Office\, 842 6th St\, Los Banos\, CA\, Los Banos\, CA\, 93635\, United States
GEO:37.0610781;-120.847641
X-APPLE-STRUCTURED-LOCATION;VALUE=URI;X-ADDRESS=San Luis & Delta-Mendota Water Authority – Los Banos Office 842 6th St Los Banos CA Los Banos CA 93635 United States;X-APPLE-RADIUS=500;X-TITLE=842 6th St\, Los Banos\, CA:geo:-120.847641,37.0610781
END:VEVENT
BEGIN:VEVENT
DTSTART;TZID=America/Los_Angeles:20250714T130000
DTEND;TZID=America/Los_Angeles:20250714T170000
DTSTAMP:20260423T221238
CREATED:20250711T203459Z
LAST-MODIFIED:20250711T203459Z
UID:10000587-1752498000-1752512400@deltamendota.org
SUMMARY:Meeting of the Delta-Mendota Subbasin Coordination Committee
DESCRIPTION:A meeting of the Delta-Mendota Subbasin Coordination Committee has been called for Monday\, July 14\, 2025 at 1:00 PM\, on items listed on the accompanying agenda. \nAgenda and Meeting Materials
URL:https://deltamendota.org/event/meeting-of-the-delta-mendota-subbasin-coordination-committee-4/
LOCATION:San Luis & Delta-Mendota Water Authority – Los Banos Office\, 842 6th St\, Los Banos\, CA\, Los Banos\, CA\, 93635\, United States
CATEGORIES:Delta-Mendota Subbasin Coordination Committee
GEO:37.0610781;-120.847641
X-APPLE-STRUCTURED-LOCATION;VALUE=URI;X-ADDRESS=San Luis & Delta-Mendota Water Authority – Los Banos Office 842 6th St Los Banos CA Los Banos CA 93635 United States;X-APPLE-RADIUS=500;X-TITLE=842 6th St\, Los Banos\, CA:geo:-120.847641,37.0610781
END:VEVENT
BEGIN:VEVENT
DTSTART;TZID=America/Los_Angeles:20250701T090000
DTEND;TZID=America/Los_Angeles:20250701T170000
DTSTAMP:20260423T221238
CREATED:20250627T234608Z
LAST-MODIFIED:20250627T234608Z
UID:10000586-1751360400-1751389200@deltamendota.org
SUMMARY:SPECIAL DELTA-MENDOTA COORDINATION COMMITTEE MEETING & SUBBASIN WORKSHOP
DESCRIPTION:Meeting Agenda & Materials
URL:https://deltamendota.org/event/special-delta-mendota-coordination-committee-meeting-subbasin-workshop/
LOCATION:San Luis & Delta-Mendota Water Authority – Los Banos Office\, 842 6th St\, Los Banos\, CA\, Los Banos\, CA\, 93635\, United States
GEO:37.0610781;-120.847641
X-APPLE-STRUCTURED-LOCATION;VALUE=URI;X-ADDRESS=San Luis & Delta-Mendota Water Authority – Los Banos Office 842 6th St Los Banos CA Los Banos CA 93635 United States;X-APPLE-RADIUS=500;X-TITLE=842 6th St\, Los Banos\, CA:geo:-120.847641,37.0610781
END:VEVENT
BEGIN:VEVENT
DTSTART;TZID=America/Los_Angeles:20250626T100000
DTEND;TZID=America/Los_Angeles:20250626T130000
DTSTAMP:20260423T221238
CREATED:20250620T223116Z
LAST-MODIFIED:20250620T223116Z
UID:10000585-1750932000-1750942800@deltamendota.org
SUMMARY:Special Joint Meeting of the Central Delta-Mendota Region Management Committee and GSA
DESCRIPTION:Agenda \nMeeting Materials
URL:https://deltamendota.org/event/special-joint-meeting-of-the-central-delta-mendota-region-management-committee-and-gsa/
LOCATION:San Luis & Delta-Mendota Water Authority – Los Banos Office\, 842 6th St\, Los Banos\, CA\, Los Banos\, CA\, 93635\, United States
GEO:37.0610781;-120.847641
X-APPLE-STRUCTURED-LOCATION;VALUE=URI;X-ADDRESS=San Luis & Delta-Mendota Water Authority – Los Banos Office 842 6th St Los Banos CA Los Banos CA 93635 United States;X-APPLE-RADIUS=500;X-TITLE=842 6th St\, Los Banos\, CA:geo:-120.847641,37.0610781
END:VEVENT
END:VCALENDAR